BEGIN:VCALENDAR
VERSION:2.0
PRODID:-//Wood County Christian School - ECPv5.8.0//NONSGML v1.0//EN
CALSCALE:GREGORIAN
METHOD:PUBLISH
X-WR-CALNAME:Wood County Christian School
X-ORIGINAL-URL:https://woodcountychristian.org
X-WR-CALDESC:Events for Wood County Christian School
BEGIN:VTIMEZONE
TZID:America/New_York
BEGIN:DAYLIGHT
TZOFFSETFROM:-0500
TZOFFSETTO:-0400
TZNAME:EDT
DTSTART:20200308T070000
END:DAYLIGHT
BEGIN:STANDARD
TZOFFSETFROM:-0400
TZOFFSETTO:-0500
TZNAME:EST
DTSTART:20201101T060000
END:STANDARD
END:VTIMEZONE
BEGIN:VEVENT
DTSTART;TZID=America/New_York:20200220T163000
DTEND;TZID=America/New_York:20200220T173000
DTSTAMP:20260425T205837
CREATED:20200102T203206Z
LAST-MODIFIED:20200102T203206Z
UID:9159-1582216200-1582219800@woodcountychristian.org
SUMMARY:4th/5th Grade Boys Basketball @ Waverly vs. Martin
DESCRIPTION:
URL:https://woodcountychristian.org/event/4th-5th-grade-boys-basketball-waverly-vs-martin/
CATEGORIES:Athletics
END:VEVENT
END:VCALENDAR